BEGIN:VCALENDAR
VERSION:2.0
PRODID:icalendar-ruby
CALSCALE:GREGORIAN
METHOD:PUBLISH
BEGIN:VEVENT
DTSTAMP:20260421T120520Z
UID:15-507473@legacychurchpcg.com
DTSTART:20260503T153000Z
DTEND:20260503T170000Z
CLASS:PUBLIC
CREATED:20260421T055823
DESCRIPTION:
LAST-MODIFIED:20260421T055823
LOCATION:Legacy Church PCG
SUMMARY:Sunday Morning Worship
URL;VALUE=URI:https://www.legacychurchpcg.com/events/sunday-morning-worship
 /2026-05-03
ATTACH;FILENAME=468614399_18057059644928189_2702781190968423890_n.jpg;FMTTY
 PE=image/jpeg:https://dq5pwpg1q8ru0.cloudfront.net/2025/12/31/23/48/26/8ab
 98f25-c2aa-43d1-a89c-89e3a9c43861/468614399_18057059644928189_270278119096
 8423890_n.jpg
END:VEVENT
END:VCALENDAR
