BEGIN:VCALENDAR
VERSION:2.0
PRODID:icalendar-ruby
CALSCALE:GREGORIAN
METHOD:PUBLISH
BEGIN:VEVENT
DTSTAMP:20260421T171850Z
UID:16-507810@legacychurchpcg.com
DTSTART:20260521T000000Z
DTEND:20260521T010000Z
CLASS:PUBLIC
CREATED:20260421T111150
DESCRIPTION:
LAST-MODIFIED:20260421T111150
LOCATION:Legacy Church PCG
SUMMARY:Wednesday Night Service
URL;VALUE=URI:https://www.legacychurchpcg.com/events/wednesday-night-servic
 e--16/2026-05-20
ATTACH;FILENAME=524356017_18079973428928189_2534375059636642172_n.jpg;FMTTY
 PE=image/jpeg:https://dq5pwpg1q8ru0.cloudfront.net/2025/12/31/22/37/52/f06
 bde12-151d-429d-9bf9-af04f52038c4/524356017_18079973428928189_253437505963
 6642172_n.jpg
END:VEVENT
END:VCALENDAR
